BEGIN:VCALENDAR
VERSION:2.0
CALSCALE:GREGORIAN
BEGIN:VEVENT
URL:https://www.learndesk.us/class/5943768651923456/lesson/2a042edbc638f5821ca03d77f610891b?ref=outlook-calendar
SUMMARY:Font Characteristics
DTSTART;TZID=America/Los_Angeles:20260422T190000
DTEND;TZID=America/Los_Angeles:20260422T200000
LOCATION:https://www.learndesk.us/class/5943768651923456/lesson/2a042edbc638f5821ca03d77f610891b?ref=outlook-calendar
DESCRIPTION: Fonts - the style of the text
Font size /increase font size (works even in sections that have multiple sizes of print!)
Bold, italics, underline
Strike-through
Sub-script and super-script
Text effects and typography - did you know about using "Ligatures" to connect letters in fancy fonts??
Text highlighter
Text color
Changing case (lowercase, UPPERCASE, Capitalize Each Word)
Small caps and MORE!

https://www.learndesk.us/class/5943768651923456/lesson/2a042edbc638f5821ca03d77f610891b?ref=outlook-calendar
STATUS:CONFIRMED
SEQUENCE:3
BEGIN:VALARM
TRIGGER:-PT10M
DESCRIPTION:Class Reminder
ACTION:DISPLAY
END:VALARM
END:VEVENT
END:VCALENDAR