BEGIN:VCALENDAR
VERSION:2.0
CALSCALE:GREGORIAN
BEGIN:VEVENT
URL:https://www.learndesk.us/class/5943768651923456/lesson/166f30e1db7c32cc84365f25ec3f854e?ref=outlook-calendar
SUMMARY:Spell-check in Foreign Languages
DTSTART;TZID=America/Los_Angeles:20260422T190000
DTEND;TZID=America/Los_Angeles:20260422T200000
LOCATION:https://www.learndesk.us/class/5943768651923456/lesson/166f30e1db7c32cc84365f25ec3f854e?ref=outlook-calendar
DESCRIPTION: Believe it or not, MS Word recognizes 18 unique English dialects... and even more foreign languages... so why shouldn't your spell-check?

https://www.learndesk.us/class/5943768651923456/lesson/166f30e1db7c32cc84365f25ec3f854e?ref=outlook-calendar
STATUS:CONFIRMED
SEQUENCE:3
BEGIN:VALARM
TRIGGER:-PT10M
DESCRIPTION:Class Reminder
ACTION:DISPLAY
END:VALARM
END:VEVENT
END:VCALENDAR