BEGIN:VCALENDAR
VERSION:2.0
CALSCALE:GREGORIAN
BEGIN:VEVENT
URL:https://www.learndesk.us/class/5943768651923456/lesson/11d3f0fe867f31fbc7b0b945fbb3d77c?ref=outlook-calendar
SUMMARY:Headers and Footers
DTSTART;TZID=America/Los_Angeles:20260422T190000
DTEND;TZID=America/Los_Angeles:20260422T200000
LOCATION:https://www.learndesk.us/class/5943768651923456/lesson/11d3f0fe867f31fbc7b0b945fbb3d77c?ref=outlook-calendar
DESCRIPTION: Stumped by trying to create a header with running page count throughout your manuscript? No problem!
Boggled by not knowing how to use lowercase Roman numerals on your Preface pages? No problem!
Can't figure out how to turn off a header on the opening page of each new chapter? No problem!
What to make for dinner tonight? PROBLEM! Better call an expert!

https://www.learndesk.us/class/5943768651923456/lesson/11d3f0fe867f31fbc7b0b945fbb3d77c?ref=outlook-calendar
STATUS:CONFIRMED
SEQUENCE:3
BEGIN:VALARM
TRIGGER:-PT10M
DESCRIPTION:Class Reminder
ACTION:DISPLAY
END:VALARM
END:VEVENT
END:VCALENDAR