BEGIN:VCALENDAR
VERSION:2.0
CALSCALE:GREGORIAN
BEGIN:VEVENT
URL:https://www.learndesk.us/class/5943768651923456/lesson/0edf7ba21cc8397dca33df486379b88d?ref=outlook-calendar
SUMMARY:Word Wrap, Undo, Zoom In, Space Between Sentences
DTSTART;TZID=America/Los_Angeles:20260422T190000
DTEND;TZID=America/Los_Angeles:20260422T200000
LOCATION:https://www.learndesk.us/class/5943768651923456/lesson/0edf7ba21cc8397dca33df486379b88d?ref=outlook-calendar
DESCRIPTION: Not your grandma's typewriter!
Microsoft Word has several differences from how folks learned to type before the mid-1980s.
Even if you already understand word wrap and using just 1 space between sentences, you might enjoy learning how to zoom in on the text (rather than changing the font size) every time you've misplaced your reading glasses.
And the undo button? I can't imagine my life without it! Does anyone know how we could create an "UNDO" button for REAL LIFE??

https://www.learndesk.us/class/5943768651923456/lesson/0edf7ba21cc8397dca33df486379b88d?ref=outlook-calendar
STATUS:CONFIRMED
SEQUENCE:3
BEGIN:VALARM
TRIGGER:-PT10M
DESCRIPTION:Class Reminder
ACTION:DISPLAY
END:VALARM
END:VEVENT
END:VCALENDAR