BEGIN:VCALENDAR
VERSION:2.0
CALSCALE:GREGORIAN
BEGIN:VEVENT
URL:https://www.learndesk.us/class/5943768651923456/lesson/0957f0ce99edb504f345349318ede533?ref=outlook-calendar
SUMMARY:BONUS: Navigation Panel for Speed and Agility
DTSTART;TZID=America/Los_Angeles:20260422T190000
DTEND;TZID=America/Los_Angeles:20260422T200000
LOCATION:https://www.learndesk.us/class/5943768651923456/lesson/0957f0ce99edb504f345349318ede533?ref=outlook-calendar
DESCRIPTION: As if the simplicity of the Styles settings above wasn't enough to evoke praise, here you'll learn how to move between chapters with a single click (bye bye, endless scrolling)... AND if you need to re-order chapters, just drag-and-drop them on the Navigation Panel to test it out without suffering through headache inducing cut-and-paste sessions.

https://www.learndesk.us/class/5943768651923456/lesson/0957f0ce99edb504f345349318ede533?ref=outlook-calendar
STATUS:CONFIRMED
SEQUENCE:3
BEGIN:VALARM
TRIGGER:-PT10M
DESCRIPTION:Class Reminder
ACTION:DISPLAY
END:VALARM
END:VEVENT
END:VCALENDAR