BEGIN:VCALENDAR
VERSION:2.0
CALSCALE:GREGORIAN
BEGIN:VEVENT
URL:https://www.learndesk.us/class/5943768651923456/lesson/02f57ba7687b9c64e799af6cb1cc43d3?ref=outlook-calendar
SUMMARY:Rock Star Techniques to Make Your Writing and Formatting Sparkle
DTSTART;TZID=America/Los_Angeles:20260422T190000
DTEND;TZID=America/Los_Angeles:20260422T200000
LOCATION:https://www.learndesk.us/class/5943768651923456/lesson/02f57ba7687b9c64e799af6cb1cc43d3?ref=outlook-calendar
DESCRIPTION: https://www.learndesk.us/class/5943768651923456/lesson/02f57ba7687b9c64e799af6cb1cc43d3?ref=outlook-calendar
STATUS:CONFIRMED
SEQUENCE:3
BEGIN:VALARM
TRIGGER:-PT10M
DESCRIPTION:Class Reminder
ACTION:DISPLAY
END:VALARM
END:VEVENT
END:VCALENDAR