BEGIN:VCALENDAR
VERSION:2.0
CALSCALE:GREGORIAN
BEGIN:VEVENT
URL:https://www.learndesk.us/class/5943768651923456/ms-word-for-writers?ref=outlook-calendar
SUMMARY:MS Word for Writers
DTSTART;TZID=America/Los_Angeles:20260421T190000
DTEND;TZID=America/Los_Angeles:20260421T200000
LOCATION:https://www.learndesk.us/class/5943768651923456/ms-word-for-writers?ref=outlook-calendar
DESCRIPTION: 
Tired of being told, "Scrivener is the answer to all your writing woes"?
What if you could do all those same organizational tricks (plus lots more Scrivener can't do) without needing to purchase or learn a whole new word-processing platform?
Good news! This course -- designed and taught by editor and publisher Demi Stevens of Year of the Book Press -- takes you behind the magic curtain to show you just the tools you need to get the writing done faster and more elegantly.
Using fun sample texts, along with drafts from actual manuscripts, this course goes beyond the mechanics of MS Word to show you how to format your Work-In-Progress using a series of 1-click tools like "Style" settings for chapter headers/sub-headers and main body text, table of contents, bibliography, citations, footnotes or endnotes, and indexing.
Or if you've been tempted to try your hand at dictating your manuscript (pun intended) -- but the price tag and learning curve for Dragon Naturally Speaking ($99+) has...

https://www.learndesk.us/class/5943768651923456/ms-word-for-writers?ref=outlook-calendar
STATUS:CONFIRMED
SEQUENCE:3
BEGIN:VALARM
TRIGGER:-PT10M
DESCRIPTION:Class Reminder
ACTION:DISPLAY
END:VALARM
END:VEVENT
END:VCALENDAR