BEGIN:VCALENDAR
VERSION:2.0
CALSCALE:GREGORIAN
BEGIN:VEVENT
URL:https://www.learndesk.us/class/5939114543153152/lesson/acb499ffc6da741b816d64c7cb33b88f?ref=outlook-calendar
SUMMARY:Writing Section (continued 1)
DTSTART;TZID=America/Los_Angeles:20260425T190000
DTEND;TZID=America/Los_Angeles:20260425T200000
LOCATION:https://www.learndesk.us/class/5939114543153152/lesson/acb499ffc6da741b816d64c7cb33b88f?ref=outlook-calendar
DESCRIPTION: https://www.learndesk.us/class/5939114543153152/lesson/acb499ffc6da741b816d64c7cb33b88f?ref=outlook-calendar
STATUS:CONFIRMED
SEQUENCE:3
BEGIN:VALARM
TRIGGER:-PT10M
DESCRIPTION:Class Reminder
ACTION:DISPLAY
END:VALARM
END:VEVENT
END:VCALENDAR