BEGIN:VCALENDAR
VERSION:2.0
CALSCALE:GREGORIAN
BEGIN:VEVENT
URL:https://www.learndesk.us/class/5939114543153152/lesson/aa74ee6cd06a680f738e389f888098dc?ref=outlook-calendar
SUMMARY:Reference Questions - Strategies
DTSTART;TZID=America/Los_Angeles:20260425T190000
DTEND;TZID=America/Los_Angeles:20260425T200000
LOCATION:https://www.learndesk.us/class/5939114543153152/lesson/aa74ee6cd06a680f738e389f888098dc?ref=outlook-calendar
DESCRIPTION: https://www.learndesk.us/class/5939114543153152/lesson/aa74ee6cd06a680f738e389f888098dc?ref=outlook-calendar
STATUS:CONFIRMED
SEQUENCE:3
BEGIN:VALARM
TRIGGER:-PT10M
DESCRIPTION:Class Reminder
ACTION:DISPLAY
END:VALARM
END:VEVENT
END:VCALENDAR