BEGIN:VCALENDAR
VERSION:2.0
CALSCALE:GREGORIAN
BEGIN:VEVENT
URL:https://www.learndesk.us/class/5939114543153152/lesson/7cd488b158ef0ad04948e855a298decd?ref=outlook-calendar
SUMMARY:Answer-Choice Analysis
DTSTART;TZID=America/Los_Angeles:20260425T190000
DTEND;TZID=America/Los_Angeles:20260425T200000
LOCATION:https://www.learndesk.us/class/5939114543153152/lesson/7cd488b158ef0ad04948e855a298decd?ref=outlook-calendar
DESCRIPTION: https://www.learndesk.us/class/5939114543153152/lesson/7cd488b158ef0ad04948e855a298decd?ref=outlook-calendar
STATUS:CONFIRMED
SEQUENCE:3
BEGIN:VALARM
TRIGGER:-PT10M
DESCRIPTION:Class Reminder
ACTION:DISPLAY
END:VALARM
END:VEVENT
END:VCALENDAR