BEGIN:VCALENDAR
VERSION:2.0
CALSCALE:GREGORIAN
BEGIN:VEVENT
URL:https://www.learndesk.us/class/5939114543153152/lesson/793296e6a94e1ccaba1055c974514283?ref=outlook-calendar
SUMMARY:Practice #2 - Sentence Simplification Questions (Part 14)
DTSTART;TZID=America/Los_Angeles:20260423T190000
DTEND;TZID=America/Los_Angeles:20260423T200000
LOCATION:https://www.learndesk.us/class/5939114543153152/lesson/793296e6a94e1ccaba1055c974514283?ref=outlook-calendar
DESCRIPTION: https://www.learndesk.us/class/5939114543153152/lesson/793296e6a94e1ccaba1055c974514283?ref=outlook-calendar
STATUS:CONFIRMED
SEQUENCE:3
BEGIN:VALARM
TRIGGER:-PT10M
DESCRIPTION:Class Reminder
ACTION:DISPLAY
END:VALARM
END:VEVENT
END:VCALENDAR