BEGIN:VCALENDAR
VERSION:2.0
CALSCALE:GREGORIAN
BEGIN:VEVENT
URL:https://www.learndesk.us/class/5939114543153152/lesson/59ecd25dcf7e2999f3471eec69ffc986?ref=outlook-calendar
SUMMARY:Common Problems for this Task (Part 2)
DTSTART;TZID=America/Los_Angeles:20260422T190000
DTEND;TZID=America/Los_Angeles:20260422T200000
LOCATION:https://www.learndesk.us/class/5939114543153152/lesson/59ecd25dcf7e2999f3471eec69ffc986?ref=outlook-calendar
DESCRIPTION: https://www.learndesk.us/class/5939114543153152/lesson/59ecd25dcf7e2999f3471eec69ffc986?ref=outlook-calendar
STATUS:CONFIRMED
SEQUENCE:3
BEGIN:VALARM
TRIGGER:-PT10M
DESCRIPTION:Class Reminder
ACTION:DISPLAY
END:VALARM
END:VEVENT
END:VCALENDAR