BEGIN:VCALENDAR
VERSION:2.0
CALSCALE:GREGORIAN
BEGIN:VEVENT
URL:https://www.learndesk.us/class/5939114543153152/toefl-strategies?ref=outlook-calendar
SUMMARY:TOEFL Strategies
DTSTART;TZID=America/Los_Angeles:20260422T190000
DTEND;TZID=America/Los_Angeles:20260422T200000
LOCATION:https://www.learndesk.us/class/5939114543153152/toefl-strategies?ref=outlook-calendar
DESCRIPTION: 
TOEFL students all ask: How can I get a high TOEFL iBT score? Answer: Learn argument scoring strategies. Why? Because the TOEFL iBT recycles opinion-based and fact-based arguments for testing purposes from start to finish. In other words, the TOEFL iBT is all arguments. That's right, all arguments. If you want a high score, you need essential argument scoring strategies. That is what TOEFL strategies a complete guide gives you, and more.
This course is a comprehensive and rigorous course. Four hundred and ninety-five videos provide a thorough review of the TOEFL. The course contains all the text from the book TOEFL Strategies, so it is fully self-contained. You will not need to get any outside materials for the course.
What will you learn in this course?

Test-Proven Strategies: Learn essential TOEFL iBT scoring strategies developed in American university classrooms and proven successful on the TOEFL iBT.
Rhetorical Analysis: Learn how to maximize scoring by rhetorically analyzing...

https://www.learndesk.us/class/5939114543153152/toefl-strategies?ref=outlook-calendar
STATUS:CONFIRMED
SEQUENCE:3
BEGIN:VALARM
TRIGGER:-PT10M
DESCRIPTION:Class Reminder
ACTION:DISPLAY
END:VALARM
END:VEVENT
END:VCALENDAR