BEGIN:VCALENDAR
VERSION:2.0
CALSCALE:GREGORIAN
BEGIN:VEVENT
URL:https://www.learndesk.us/class/5937050383548416/lesson/e632cae6a710006ffa68a39b1c6ae40b?ref=outlook-calendar
SUMMARY:Step 10: Lasting Impression - The last 4 minutes can make or break your success
DTSTART;TZID=America/Los_Angeles:20260420T190000
DTEND;TZID=America/Los_Angeles:20260420T200000
LOCATION:https://www.learndesk.us/class/5937050383548416/lesson/e632cae6a710006ffa68a39b1c6ae40b?ref=outlook-calendar
DESCRIPTION: This lecture will cover the importance of making a great lasting impression with the interview panel and the steps you need to take to wrap your interview successfully.

https://www.learndesk.us/class/5937050383548416/lesson/e632cae6a710006ffa68a39b1c6ae40b?ref=outlook-calendar
STATUS:CONFIRMED
SEQUENCE:3
BEGIN:VALARM
TRIGGER:-PT10M
DESCRIPTION:Class Reminder
ACTION:DISPLAY
END:VALARM
END:VEVENT
END:VCALENDAR