BEGIN:VCALENDAR
VERSION:2.0
CALSCALE:GREGORIAN
BEGIN:VEVENT
URL:https://www.learndesk.us/class/5937050383548416/lesson/d69d8b9066d834dd8908bf0cab63c9e7?ref=outlook-calendar
SUMMARY:Step 8: Reading the room - Reading and reacting to non-verbal cues
DTSTART;TZID=America/Los_Angeles:20260420T190000
DTEND;TZID=America/Los_Angeles:20260420T200000
LOCATION:https://www.learndesk.us/class/5937050383548416/lesson/d69d8b9066d834dd8908bf0cab63c9e7?ref=outlook-calendar
DESCRIPTION: In this lecture we'll broadly cover the importance of body language in effective communication. We'll go over some of the main non-verbal cues to be aware of both in yourself and the interviewers and appropriate reactions to these cues to improve your chances of a successful interview.

https://www.learndesk.us/class/5937050383548416/lesson/d69d8b9066d834dd8908bf0cab63c9e7?ref=outlook-calendar
STATUS:CONFIRMED
SEQUENCE:3
BEGIN:VALARM
TRIGGER:-PT10M
DESCRIPTION:Class Reminder
ACTION:DISPLAY
END:VALARM
END:VEVENT
END:VCALENDAR