BEGIN:VCALENDAR
VERSION:2.0
CALSCALE:GREGORIAN
BEGIN:VEVENT
URL:https://www.learndesk.us/class/5937050383548416/lesson/a643edc39d6d1bff8666d6306396af12?ref=outlook-calendar
SUMMARY:Step 1:  Mental preparation
DTSTART;TZID=America/Los_Angeles:20260422T190000
DTEND;TZID=America/Los_Angeles:20260422T200000
LOCATION:https://www.learndesk.us/class/5937050383548416/lesson/a643edc39d6d1bff8666d6306396af12?ref=outlook-calendar
DESCRIPTION: Preparing yourself mentally for an interview is just as important as the structured preparations you will need to do. This lecture covers four key points to help you mentally prepare for your interview, how this relates to developing a positive communication style and why this is so important.

https://www.learndesk.us/class/5937050383548416/lesson/a643edc39d6d1bff8666d6306396af12?ref=outlook-calendar
STATUS:CONFIRMED
SEQUENCE:3
BEGIN:VALARM
TRIGGER:-PT10M
DESCRIPTION:Class Reminder
ACTION:DISPLAY
END:VALARM
END:VEVENT
END:VCALENDAR