BEGIN:VCALENDAR
VERSION:2.0
CALSCALE:GREGORIAN
BEGIN:VEVENT
URL:https://www.learndesk.us/class/5937050383548416/lesson/3becf6103a2623df57323f7915d1d8d4?ref=outlook-calendar
SUMMARY:Step 7: Be Present - Techniques to create the interviewers confidence in you
DTSTART;TZID=America/Los_Angeles:20260422T190000
DTEND;TZID=America/Los_Angeles:20260422T200000
LOCATION:https://www.learndesk.us/class/5937050383548416/lesson/3becf6103a2623df57323f7915d1d8d4?ref=outlook-calendar
DESCRIPTION: Being present in the interview is a powerful technique to help build the interviewer's confidence in you. How? In this lecture we'll cover five key techniques that will help you to avoid being distracted by your own thoughts during the interview, allowing you to truly listen to what the interviewers are saying.

https://www.learndesk.us/class/5937050383548416/lesson/3becf6103a2623df57323f7915d1d8d4?ref=outlook-calendar
STATUS:CONFIRMED
SEQUENCE:3
BEGIN:VALARM
TRIGGER:-PT10M
DESCRIPTION:Class Reminder
ACTION:DISPLAY
END:VALARM
END:VEVENT
END:VCALENDAR