BEGIN:VCALENDAR
VERSION:2.0
CALSCALE:GREGORIAN
BEGIN:VEVENT
URL:https://www.learndesk.us/class/5913310379638784/lesson/eda1acc0278aff7cfd59e067fd4b86da?ref=outlook-calendar
SUMMARY:Outsource Your Content
DTSTART;TZID=America/Los_Angeles:20260422T190000
DTEND;TZID=America/Los_Angeles:20260422T200000
LOCATION:https://www.learndesk.us/class/5913310379638784/lesson/eda1acc0278aff7cfd59e067fd4b86da?ref=outlook-calendar
DESCRIPTION: Outsource Your Content To Elance

https://www.learndesk.us/class/5913310379638784/lesson/eda1acc0278aff7cfd59e067fd4b86da?ref=outlook-calendar
STATUS:CONFIRMED
SEQUENCE:3
BEGIN:VALARM
TRIGGER:-PT10M
DESCRIPTION:Class Reminder
ACTION:DISPLAY
END:VALARM
END:VEVENT
END:VCALENDAR