BEGIN:VCALENDAR
VERSION:2.0
CALSCALE:GREGORIAN
BEGIN:VEVENT
URL:https://www.learndesk.us/class/5913310379638784/lesson/e768785dabd975be7e4286f74b01a2a3?ref=outlook-calendar
SUMMARY:Kindle Content
DTSTART;TZID=America/Los_Angeles:20260422T190000
DTEND;TZID=America/Los_Angeles:20260422T200000
LOCATION:https://www.learndesk.us/class/5913310379638784/lesson/e768785dabd975be7e4286f74b01a2a3?ref=outlook-calendar
DESCRIPTION: In this module you'll learn how to create compelling content for your ebook even if you've never written a day in your life.

https://www.learndesk.us/class/5913310379638784/lesson/e768785dabd975be7e4286f74b01a2a3?ref=outlook-calendar
STATUS:CONFIRMED
SEQUENCE:3
BEGIN:VALARM
TRIGGER:-PT10M
DESCRIPTION:Class Reminder
ACTION:DISPLAY
END:VALARM
END:VEVENT
END:VCALENDAR