BEGIN:VCALENDAR
VERSION:2.0
CALSCALE:GREGORIAN
BEGIN:VEVENT
URL:https://www.learndesk.us/class/5913310379638784/lesson/e5d4fb7170da61386f9c0c0ee5c4ce8f?ref=outlook-calendar
SUMMARY:Kindle Publishing
DTSTART;TZID=America/Los_Angeles:20260422T190000
DTEND;TZID=America/Los_Angeles:20260422T200000
LOCATION:https://www.learndesk.us/class/5913310379638784/lesson/e5d4fb7170da61386f9c0c0ee5c4ce8f?ref=outlook-calendar
DESCRIPTION: In this module you'll learn all about why you would benefit from publishing an ebook on Amazon for the Kindle.

https://www.learndesk.us/class/5913310379638784/lesson/e5d4fb7170da61386f9c0c0ee5c4ce8f?ref=outlook-calendar
STATUS:CONFIRMED
SEQUENCE:3
BEGIN:VALARM
TRIGGER:-PT10M
DESCRIPTION:Class Reminder
ACTION:DISPLAY
END:VALARM
END:VEVENT
END:VCALENDAR