BEGIN:VCALENDAR
VERSION:2.0
CALSCALE:GREGORIAN
BEGIN:VEVENT
URL:https://www.learndesk.us/class/5913310379638784/lesson/9a753888c6676763e36dc66a98385dcb?ref=outlook-calendar
SUMMARY:Fiction Press
DTSTART;TZID=America/Los_Angeles:20260424T190000
DTEND;TZID=America/Los_Angeles:20260424T200000
LOCATION:https://www.learndesk.us/class/5913310379638784/lesson/9a753888c6676763e36dc66a98385dcb?ref=outlook-calendar
DESCRIPTION: Stellar Resource For Buying Fiction

https://www.learndesk.us/class/5913310379638784/lesson/9a753888c6676763e36dc66a98385dcb?ref=outlook-calendar
STATUS:CONFIRMED
SEQUENCE:3
BEGIN:VALARM
TRIGGER:-PT10M
DESCRIPTION:Class Reminder
ACTION:DISPLAY
END:VALARM
END:VEVENT
END:VCALENDAR