BEGIN:VCALENDAR
VERSION:2.0
CALSCALE:GREGORIAN
BEGIN:VEVENT
URL:https://www.learndesk.us/class/5913310379638784/lesson/93a7b5a6284b4c68993409cc30fdffd0?ref=outlook-calendar
SUMMARY:Kindle For Business
DTSTART;TZID=America/Los_Angeles:20260422T190000
DTEND;TZID=America/Los_Angeles:20260422T200000
LOCATION:https://www.learndesk.us/class/5913310379638784/lesson/93a7b5a6284b4c68993409cc30fdffd0?ref=outlook-calendar
DESCRIPTION: How To Publish To Kindle For Business

https://www.learndesk.us/class/5913310379638784/lesson/93a7b5a6284b4c68993409cc30fdffd0?ref=outlook-calendar
STATUS:CONFIRMED
SEQUENCE:3
BEGIN:VALARM
TRIGGER:-PT10M
DESCRIPTION:Class Reminder
ACTION:DISPLAY
END:VALARM
END:VEVENT
END:VCALENDAR