BEGIN:VCALENDAR
VERSION:2.0
CALSCALE:GREGORIAN
BEGIN:VEVENT
URL:https://www.learndesk.us/class/5913310379638784/lesson/8946b7eb9472a0a4ca1b8c0619edcc1c?ref=outlook-calendar
SUMMARY:Submission Demo
DTSTART;TZID=America/Los_Angeles:20260424T190000
DTEND;TZID=America/Los_Angeles:20260424T200000
LOCATION:https://www.learndesk.us/class/5913310379638784/lesson/8946b7eb9472a0a4ca1b8c0619edcc1c?ref=outlook-calendar
DESCRIPTION: Submitting Your eBook Step By Step

https://www.learndesk.us/class/5913310379638784/lesson/8946b7eb9472a0a4ca1b8c0619edcc1c?ref=outlook-calendar
STATUS:CONFIRMED
SEQUENCE:3
BEGIN:VALARM
TRIGGER:-PT10M
DESCRIPTION:Class Reminder
ACTION:DISPLAY
END:VALARM
END:VEVENT
END:VCALENDAR