BEGIN:VCALENDAR
VERSION:2.0
CALSCALE:GREGORIAN
BEGIN:VEVENT
URL:https://www.learndesk.us/class/5913310379638784/lesson/330ee7a5c5ea99a23ec91e313162a305?ref=outlook-calendar
SUMMARY:Long Term Profits
DTSTART;TZID=America/Los_Angeles:20260422T190000
DTEND;TZID=America/Los_Angeles:20260422T200000
LOCATION:https://www.learndesk.us/class/5913310379638784/lesson/330ee7a5c5ea99a23ec91e313162a305?ref=outlook-calendar
DESCRIPTION: Turn Your Customers Into Repeat Buyers

https://www.learndesk.us/class/5913310379638784/lesson/330ee7a5c5ea99a23ec91e313162a305?ref=outlook-calendar
STATUS:CONFIRMED
SEQUENCE:3
BEGIN:VALARM
TRIGGER:-PT10M
DESCRIPTION:Class Reminder
ACTION:DISPLAY
END:VALARM
END:VEVENT
END:VCALENDAR