BEGIN:VCALENDAR
VERSION:2.0
CALSCALE:GREGORIAN
BEGIN:VEVENT
URL:https://www.learndesk.us/class/5913310379638784/lesson/31ab2867bb81fa898b3627dd1acfea9b?ref=outlook-calendar
SUMMARY:Maximize Profits
DTSTART;TZID=America/Los_Angeles:20260422T190000
DTEND;TZID=America/Los_Angeles:20260422T200000
LOCATION:https://www.learndesk.us/class/5913310379638784/lesson/31ab2867bb81fa898b3627dd1acfea9b?ref=outlook-calendar
DESCRIPTION: How To Make The Most Money With Your eBook

https://www.learndesk.us/class/5913310379638784/lesson/31ab2867bb81fa898b3627dd1acfea9b?ref=outlook-calendar
STATUS:CONFIRMED
SEQUENCE:3
BEGIN:VALARM
TRIGGER:-PT10M
DESCRIPTION:Class Reminder
ACTION:DISPLAY
END:VALARM
END:VEVENT
END:VCALENDAR