BEGIN:VCALENDAR
VERSION:2.0
CALSCALE:GREGORIAN
BEGIN:VEVENT
URL:https://www.learndesk.us/class/5913310379638784/kindle-marketing-complete-guide-to-amazon-kindle-publishing?ref=outlook-calendar
SUMMARY:Kindle Marketing: Complete Guide to Amazon Kindle Publishing
DTSTART;TZID=America/Los_Angeles:20260421T190000
DTEND;TZID=America/Los_Angeles:20260421T200000
LOCATION:https://www.learndesk.us/class/5913310379638784/kindle-marketing-complete-guide-to-amazon-kindle-publishing?ref=outlook-calendar
DESCRIPTION: 
Welcome to Kindle Marketing: Complete Guide to Amazon Kindle Publishing.
As a member, you have full access to this crash course on publishing a top-selling ebook for the Amazon Kindle.  
The Amazon Kindle Marketing Course consists of 3 modules: 
Module 1: Kindle Publishing 
In this module, you'll learn all about why you would benefit from publishing an ebook on Amazon for the Kindle. We'll tour the Amazon Kindle website and show you why publishing an ebook can help you accomplish your goals, whether you're a writer or a business owner.  Kindle publishing isn't just for fiction writers, and if you own a business and aren't publishing on Amazon, then you could be leaving a lot of money on the table.
Module 2: Kindle Content
In this module, you'll learn how to create compelling content for your ebook even if you have limited writing experience.  We'll walk you through every stage of the process from the research phase to buying content if you want to outsource this process...

https://www.learndesk.us/class/5913310379638784/kindle-marketing-complete-guide-to-amazon-kindle-publishing?ref=outlook-calendar
STATUS:CONFIRMED
SEQUENCE:3
BEGIN:VALARM
TRIGGER:-PT10M
DESCRIPTION:Class Reminder
ACTION:DISPLAY
END:VALARM
END:VEVENT
END:VCALENDAR