BEGIN:VCALENDAR
VERSION:2.0
CALSCALE:GREGORIAN
BEGIN:VEVENT
URL:https://www.learndesk.us/class/5905757742563328/lesson/b328593c30df48efc53dd8e79dd5ba6f?ref=outlook-calendar
SUMMARY:Punctuation Quick-Reference Guide
DTSTART;TZID=America/Los_Angeles:20260421T190000
DTEND;TZID=America/Los_Angeles:20260421T200000
LOCATION:https://www.learndesk.us/class/5905757742563328/lesson/b328593c30df48efc53dd8e79dd5ba6f?ref=outlook-calendar
DESCRIPTION: This two-page quick-reference guide includes nearly all the rules covered in the course.

https://www.learndesk.us/class/5905757742563328/lesson/b328593c30df48efc53dd8e79dd5ba6f?ref=outlook-calendar
STATUS:CONFIRMED
SEQUENCE:3
BEGIN:VALARM
TRIGGER:-PT10M
DESCRIPTION:Class Reminder
ACTION:DISPLAY
END:VALARM
END:VEVENT
END:VCALENDAR