BEGIN:VCALENDAR
VERSION:2.0
CALSCALE:GREGORIAN
BEGIN:VEVENT
URL:https://www.learndesk.us/class/5905757742563328/lesson/9c32bfccfd4a88c4c81264350ef7d66e?ref=outlook-calendar
SUMMARY:Comma Rule 1: Use commas to set off the name of the reader
DTSTART;TZID=America/Los_Angeles:20260421T190000
DTEND;TZID=America/Los_Angeles:20260421T200000
LOCATION:https://www.learndesk.us/class/5905757742563328/lesson/9c32bfccfd4a88c4c81264350ef7d66e?ref=outlook-calendar
DESCRIPTION: 

https://www.learndesk.us/class/5905757742563328/lesson/9c32bfccfd4a88c4c81264350ef7d66e?ref=outlook-calendar
STATUS:CONFIRMED
SEQUENCE:3
BEGIN:VALARM
TRIGGER:-PT10M
DESCRIPTION:Class Reminder
ACTION:DISPLAY
END:VALARM
END:VEVENT
END:VCALENDAR