BEGIN:VCALENDAR
VERSION:2.0
CALSCALE:GREGORIAN
BEGIN:VEVENT
URL:https://www.learndesk.us/class/5905757742563328/lesson/4c0c8bd0178e40a2cedd3c6e910f16d0?ref=outlook-calendar
SUMMARY:Online Practice Post Assessment--Part Three: More Punctuation
DTSTART;TZID=America/Los_Angeles:20260421T190000
DTEND;TZID=America/Los_Angeles:20260421T200000
LOCATION:https://www.learndesk.us/class/5905757742563328/lesson/4c0c8bd0178e40a2cedd3c6e910f16d0?ref=outlook-calendar
DESCRIPTION: https://www.learndesk.us/class/5905757742563328/lesson/4c0c8bd0178e40a2cedd3c6e910f16d0?ref=outlook-calendar
STATUS:CONFIRMED
SEQUENCE:3
BEGIN:VALARM
TRIGGER:-PT10M
DESCRIPTION:Class Reminder
ACTION:DISPLAY
END:VALARM
END:VEVENT
END:VCALENDAR