BEGIN:VCALENDAR
VERSION:2.0
CALSCALE:GREGORIAN
BEGIN:VEVENT
URL:https://www.learndesk.us/class/5905757742563328/lesson/0249855f109da82995bc4a93acaae615?ref=outlook-calendar
SUMMARY:Online Practice: Possessive Forms
DTSTART;TZID=America/Los_Angeles:20260421T190000
DTEND;TZID=America/Los_Angeles:20260421T200000
LOCATION:https://www.learndesk.us/class/5905757742563328/lesson/0249855f109da82995bc4a93acaae615?ref=outlook-calendar
DESCRIPTION: This quiz is similar to the exercise on the top of page 22 in your notebook.

https://www.learndesk.us/class/5905757742563328/lesson/0249855f109da82995bc4a93acaae615?ref=outlook-calendar
STATUS:CONFIRMED
SEQUENCE:3
BEGIN:VALARM
TRIGGER:-PT10M
DESCRIPTION:Class Reminder
ACTION:DISPLAY
END:VALARM
END:VEVENT
END:VCALENDAR