BEGIN:VCALENDAR
VERSION:2.0
CALSCALE:GREGORIAN
BEGIN:VEVENT
URL:https://www.learndesk.us/class/5897961022160896/zoom-master-video-conferencing-in-40-minutes?ref=outlook-calendar
SUMMARY:Zoom: Master Video Conferencing in 40 Minutes
DTSTART;TZID=America/Los_Angeles:20260425T190000
DTEND;TZID=America/Los_Angeles:20260425T200000
LOCATION:https://www.learndesk.us/class/5897961022160896/zoom-master-video-conferencing-in-40-minutes?ref=outlook-calendar
DESCRIPTION: 
Last time you tried to make sense of your working remotely with your team, however, working with Zoom proved to be a troublesome task. But it doesn't have to be this way.
You will walk away with:

More time
Master Zoom video conferencing basics in just 40 minutes
Understand the essence of Zoom functions, without memorizing them
See how each of these functionalities is used with real examples

After this class you will be able to:

Actually smile when you start opening your Zoom meeting
Impress your boss, coworkers, and your friends on what you can do with Zoom

If you're like me, you use Zoom on a daily basis for important tasks, collaboration, whether in the office or in a remote setting. Whether it's for business or personal related projects, everyone wants to be able to use Zoom freely and easily. If you're ready to gain full control of video conferencing with Zoom today, take the “Zoom: Master Video Conferencing" course right now.
What will you learn in this course?

Signing...

https://www.learndesk.us/class/5897961022160896/zoom-master-video-conferencing-in-40-minutes?ref=outlook-calendar
STATUS:CONFIRMED
SEQUENCE:3
BEGIN:VALARM
TRIGGER:-PT10M
DESCRIPTION:Class Reminder
ACTION:DISPLAY
END:VALARM
END:VEVENT
END:VCALENDAR