BEGIN:VCALENDAR
VERSION:2.0
CALSCALE:GREGORIAN
BEGIN:VEVENT
URL:https://www.learndesk.us/class/5897314008825856/lesson/f8f2095b78f383e223545b2af7a64f1f?ref=outlook-calendar
SUMMARY:An Easy Break Down of Your Job Interview
DTSTART;TZID=America/Los_Angeles:20260420T190000
DTEND;TZID=America/Los_Angeles:20260420T200000
LOCATION:https://www.learndesk.us/class/5897314008825856/lesson/f8f2095b78f383e223545b2af7a64f1f?ref=outlook-calendar
DESCRIPTION: All interviews are different in their own way. An English Job Interview follows a specific procedure and in this lesson, you are going to learn what that is. You will understand all the different sections of the interview and what is expected of you in each section.

https://www.learndesk.us/class/5897314008825856/lesson/f8f2095b78f383e223545b2af7a64f1f?ref=outlook-calendar
STATUS:CONFIRMED
SEQUENCE:3
BEGIN:VALARM
TRIGGER:-PT10M
DESCRIPTION:Class Reminder
ACTION:DISPLAY
END:VALARM
END:VEVENT
END:VCALENDAR