BEGIN:VCALENDAR
VERSION:2.0
CALSCALE:GREGORIAN
BEGIN:VEVENT
URL:https://www.learndesk.us/class/5897314008825856/lesson/bcbbf17cb0a6965f277c615de525c3c3?ref=outlook-calendar
SUMMARY:The Complete STAR Formula Overview
DTSTART;TZID=America/Los_Angeles:20260422T190000
DTEND;TZID=America/Los_Angeles:20260422T200000
LOCATION:https://www.learndesk.us/class/5897314008825856/lesson/bcbbf17cb0a6965f277c615de525c3c3?ref=outlook-calendar
DESCRIPTION: In this lesson, we will be looking at an overview of the star formula as well as analyzing the answer to a question that uses this technique. From this, you will better understand how the formula is used to answer questions.

https://www.learndesk.us/class/5897314008825856/lesson/bcbbf17cb0a6965f277c615de525c3c3?ref=outlook-calendar
STATUS:CONFIRMED
SEQUENCE:3
BEGIN:VALARM
TRIGGER:-PT10M
DESCRIPTION:Class Reminder
ACTION:DISPLAY
END:VALARM
END:VEVENT
END:VCALENDAR