BEGIN:VCALENDAR
VERSION:2.0
CALSCALE:GREGORIAN
BEGIN:VEVENT
URL:https://www.learndesk.us/class/5897314008825856/lesson/a9c1279aa54664c5ec22af0554bc1c74?ref=outlook-calendar
SUMMARY:Future Structures
DTSTART;TZID=America/Los_Angeles:20260422T190000
DTEND;TZID=America/Los_Angeles:20260422T200000
LOCATION:https://www.learndesk.us/class/5897314008825856/lesson/a9c1279aa54664c5ec22af0554bc1c74?ref=outlook-calendar
DESCRIPTION: In this lesson, you will learn how to use two key future structures when answering interview questions.

https://www.learndesk.us/class/5897314008825856/lesson/a9c1279aa54664c5ec22af0554bc1c74?ref=outlook-calendar
STATUS:CONFIRMED
SEQUENCE:3
BEGIN:VALARM
TRIGGER:-PT10M
DESCRIPTION:Class Reminder
ACTION:DISPLAY
END:VALARM
END:VEVENT
END:VCALENDAR