BEGIN:VCALENDAR
VERSION:2.0
CALSCALE:GREGORIAN
BEGIN:VEVENT
URL:https://www.learndesk.us/class/5897314008825856/lesson/703ae5e0395cfd865a33d4a2bb35e6ee?ref=outlook-calendar
SUMMARY:Questions About Why You Want the Job
DTSTART;TZID=America/Los_Angeles:20260422T190000
DTEND;TZID=America/Los_Angeles:20260422T200000
LOCATION:https://www.learndesk.us/class/5897314008825856/lesson/703ae5e0395cfd865a33d4a2bb35e6ee?ref=outlook-calendar
DESCRIPTION: Here you will learn how to answer questions about why you want the job, pitch yourself and use correct sentence structures and vocabulary to give the best answer.

https://www.learndesk.us/class/5897314008825856/lesson/703ae5e0395cfd865a33d4a2bb35e6ee?ref=outlook-calendar
STATUS:CONFIRMED
SEQUENCE:3
BEGIN:VALARM
TRIGGER:-PT10M
DESCRIPTION:Class Reminder
ACTION:DISPLAY
END:VALARM
END:VEVENT
END:VCALENDAR