BEGIN:VCALENDAR
VERSION:2.0
CALSCALE:GREGORIAN
BEGIN:VEVENT
URL:https://www.learndesk.us/class/5897314008825856/lesson/06e658799c99af86888f76c9cb576832?ref=outlook-calendar
SUMMARY:Questions About What You Know About the Position
DTSTART;TZID=America/Los_Angeles:20260420T190000
DTEND;TZID=America/Los_Angeles:20260420T200000
LOCATION:https://www.learndesk.us/class/5897314008825856/lesson/06e658799c99af86888f76c9cb576832?ref=outlook-calendar
DESCRIPTION: In this lesson, you will understand what information you should know about the position or company you are applying for, as well as where to find such information. You will learn how to answer questions about what you know about the position as well as correctly structure your answers.

https://www.learndesk.us/class/5897314008825856/lesson/06e658799c99af86888f76c9cb576832?ref=outlook-calendar
STATUS:CONFIRMED
SEQUENCE:3
BEGIN:VALARM
TRIGGER:-PT10M
DESCRIPTION:Class Reminder
ACTION:DISPLAY
END:VALARM
END:VEVENT
END:VCALENDAR