BEGIN:VCALENDAR
VERSION:2.0
CALSCALE:GREGORIAN
BEGIN:VEVENT
URL:https://www.learndesk.us/class/5868546045247488/lesson/b9fe35e763dd9697aa68b2d460c05e1a?ref=outlook-calendar
SUMMARY:Capricorn Slide Deck
DTSTART;TZID=America/Los_Angeles:20260421T190000
DTEND;TZID=America/Los_Angeles:20260421T200000
LOCATION:https://www.learndesk.us/class/5868546045247488/lesson/b9fe35e763dd9697aa68b2d460c05e1a?ref=outlook-calendar
DESCRIPTION: Use this slide deck to follow along with the video in the next section of the lesson.

https://www.learndesk.us/class/5868546045247488/lesson/b9fe35e763dd9697aa68b2d460c05e1a?ref=outlook-calendar
STATUS:CONFIRMED
SEQUENCE:3
BEGIN:VALARM
TRIGGER:-PT10M
DESCRIPTION:Class Reminder
ACTION:DISPLAY
END:VALARM
END:VEVENT
END:VCALENDAR