BEGIN:VCALENDAR
VERSION:2.0
CALSCALE:GREGORIAN
BEGIN:VEVENT
URL:https://www.learndesk.us/class/5868546045247488/lesson/a22a06e9178638a324a681e3f929031f?ref=outlook-calendar
SUMMARY:How to Create a Free Natal Chart
DTSTART;TZID=America/Los_Angeles:20260421T190000
DTEND;TZID=America/Los_Angeles:20260421T200000
LOCATION:https://www.learndesk.us/class/5868546045247488/lesson/a22a06e9178638a324a681e3f929031f?ref=outlook-calendar
DESCRIPTION: https://www.learndesk.us/class/5868546045247488/lesson/a22a06e9178638a324a681e3f929031f?ref=outlook-calendar
STATUS:CONFIRMED
SEQUENCE:3
BEGIN:VALARM
TRIGGER:-PT10M
DESCRIPTION:Class Reminder
ACTION:DISPLAY
END:VALARM
END:VEVENT
END:VCALENDAR