BEGIN:VCALENDAR
VERSION:2.0
CALSCALE:GREGORIAN
BEGIN:VEVENT
URL:https://www.learndesk.us/class/5868546045247488/lesson/8bf63fb1522d3157b92db8472da2e2bf?ref=outlook-calendar
SUMMARY:Celeste Introduces Taurus
DTSTART;TZID=America/Los_Angeles:20260421T190000
DTEND;TZID=America/Los_Angeles:20260421T200000
LOCATION:https://www.learndesk.us/class/5868546045247488/lesson/8bf63fb1522d3157b92db8472da2e2bf?ref=outlook-calendar
DESCRIPTION: https://www.learndesk.us/class/5868546045247488/lesson/8bf63fb1522d3157b92db8472da2e2bf?ref=outlook-calendar
STATUS:CONFIRMED
SEQUENCE:3
BEGIN:VALARM
TRIGGER:-PT10M
DESCRIPTION:Class Reminder
ACTION:DISPLAY
END:VALARM
END:VEVENT
END:VCALENDAR