BEGIN:VCALENDAR
VERSION:2.0
CALSCALE:GREGORIAN
BEGIN:VEVENT
URL:https://www.learndesk.us/class/5868546045247488/lesson/1d80b042b0b1fe8d0c0450ec5894a1e8?ref=outlook-calendar
SUMMARY:Meet the Natal Chart with Celeste
DTSTART;TZID=America/Los_Angeles:20260421T190000
DTEND;TZID=America/Los_Angeles:20260421T200000
LOCATION:https://www.learndesk.us/class/5868546045247488/lesson/1d80b042b0b1fe8d0c0450ec5894a1e8?ref=outlook-calendar
DESCRIPTION: https://www.learndesk.us/class/5868546045247488/lesson/1d80b042b0b1fe8d0c0450ec5894a1e8?ref=outlook-calendar
STATUS:CONFIRMED
SEQUENCE:3
BEGIN:VALARM
TRIGGER:-PT10M
DESCRIPTION:Class Reminder
ACTION:DISPLAY
END:VALARM
END:VEVENT
END:VCALENDAR