BEGIN:VCALENDAR
VERSION:2.0
CALSCALE:GREGORIAN
BEGIN:VEVENT
URL:https://www.learndesk.us/class/5868546045247488/meet-the-zodiac?ref=outlook-calendar
SUMMARY:Meet the Zodiac
DTSTART;TZID=America/Los_Angeles:20260421T190000
DTEND;TZID=America/Los_Angeles:20260421T200000
LOCATION:https://www.learndesk.us/class/5868546045247488/meet-the-zodiac?ref=outlook-calendar
DESCRIPTION: This self-paced course is the perfect starting point to gaining that knowledge for yourself. During this introductory overview of the twelve signs of the zodiac, you will move through thirteen pre-recorded videos and learn the following for each sign:&nbsp;

Astrology basics
The meaning of the sun, moon, and rising signs
Common archetypes of the signs
Traits to cultivate tame each sign
Famous, infamous, and well-known people that have each sun, moon, and rising sign


https://www.learndesk.us/class/5868546045247488/meet-the-zodiac?ref=outlook-calendar
STATUS:CONFIRMED
SEQUENCE:3
BEGIN:VALARM
TRIGGER:-PT10M
DESCRIPTION:Class Reminder
ACTION:DISPLAY
END:VALARM
END:VEVENT
END:VCALENDAR