BEGIN:VCALENDAR
VERSION:2.0
CALSCALE:GREGORIAN
BEGIN:VEVENT
URL:https://www.learndesk.us/class/5865842950537216/lesson/f418ea0cc71a4c8a4909d850a1e9cb50?ref=outlook-calendar
SUMMARY:Day 16 Video
DTSTART;TZID=America/Los_Angeles:20260424T190000
DTEND;TZID=America/Los_Angeles:20260424T200000
LOCATION:https://www.learndesk.us/class/5865842950537216/lesson/f418ea0cc71a4c8a4909d850a1e9cb50?ref=outlook-calendar
DESCRIPTION: https://www.learndesk.us/class/5865842950537216/lesson/f418ea0cc71a4c8a4909d850a1e9cb50?ref=outlook-calendar
STATUS:CONFIRMED
SEQUENCE:3
BEGIN:VALARM
TRIGGER:-PT10M
DESCRIPTION:Class Reminder
ACTION:DISPLAY
END:VALARM
END:VEVENT
END:VCALENDAR