BEGIN:VCALENDAR
VERSION:2.0
CALSCALE:GREGORIAN
BEGIN:VEVENT
URL:https://www.learndesk.us/class/5865842950537216/lesson/a7e92a7f6cfd000f2595d984db491e9a?ref=outlook-calendar
SUMMARY:Day 6 video
DTSTART;TZID=America/Los_Angeles:20260424T190000
DTEND;TZID=America/Los_Angeles:20260424T200000
LOCATION:https://www.learndesk.us/class/5865842950537216/lesson/a7e92a7f6cfd000f2595d984db491e9a?ref=outlook-calendar
DESCRIPTION: https://www.learndesk.us/class/5865842950537216/lesson/a7e92a7f6cfd000f2595d984db491e9a?ref=outlook-calendar
STATUS:CONFIRMED
SEQUENCE:3
BEGIN:VALARM
TRIGGER:-PT10M
DESCRIPTION:Class Reminder
ACTION:DISPLAY
END:VALARM
END:VEVENT
END:VCALENDAR