BEGIN:VCALENDAR
VERSION:2.0
CALSCALE:GREGORIAN
BEGIN:VEVENT
URL:https://www.learndesk.us/class/5865842950537216/lesson/4cab9e0d5572dddfc184359e53611409?ref=outlook-calendar
SUMMARY:Day 15 Challenge
DTSTART;TZID=America/Los_Angeles:20260424T190000
DTEND;TZID=America/Los_Angeles:20260424T200000
LOCATION:https://www.learndesk.us/class/5865842950537216/lesson/4cab9e0d5572dddfc184359e53611409?ref=outlook-calendar
DESCRIPTION: https://www.learndesk.us/class/5865842950537216/lesson/4cab9e0d5572dddfc184359e53611409?ref=outlook-calendar
STATUS:CONFIRMED
SEQUENCE:3
BEGIN:VALARM
TRIGGER:-PT10M
DESCRIPTION:Class Reminder
ACTION:DISPLAY
END:VALARM
END:VEVENT
END:VCALENDAR