BEGIN:VCALENDAR
VERSION:2.0
CALSCALE:GREGORIAN
BEGIN:VEVENT
URL:https://www.learndesk.us/class/5865842950537216/lesson/25e418c9a2cc79ef029a3c2d0493b2e2?ref=outlook-calendar
SUMMARY:Day 26 Challenge
DTSTART;TZID=America/Los_Angeles:20260424T190000
DTEND;TZID=America/Los_Angeles:20260424T200000
LOCATION:https://www.learndesk.us/class/5865842950537216/lesson/25e418c9a2cc79ef029a3c2d0493b2e2?ref=outlook-calendar
DESCRIPTION: https://www.learndesk.us/class/5865842950537216/lesson/25e418c9a2cc79ef029a3c2d0493b2e2?ref=outlook-calendar
STATUS:CONFIRMED
SEQUENCE:3
BEGIN:VALARM
TRIGGER:-PT10M
DESCRIPTION:Class Reminder
ACTION:DISPLAY
END:VALARM
END:VEVENT
END:VCALENDAR