BEGIN:VCALENDAR
VERSION:2.0
CALSCALE:GREGORIAN
BEGIN:VEVENT
URL:https://www.learndesk.us/class/5865842950537216/setup-culture-of-purpose-profit-and-growth-in-30-days-on-your-own?ref=outlook-calendar
SUMMARY:Setup "Culture of Purpose, Profit and Growth" in 30 days On Your Own
DTSTART;TZID=America/Los_Angeles:20260424T190000
DTEND;TZID=America/Los_Angeles:20260424T200000
LOCATION:https://www.learndesk.us/class/5865842950537216/setup-culture-of-purpose-profit-and-growth-in-30-days-on-your-own?ref=outlook-calendar
DESCRIPTION: In this course, you will learn how to create a happy, healthy, and high-performing culture of profit and growth for your workplace on your own mindfully.&nbsp; Most biz owners think that workplace culture happens on its own. It does not happen automatically. It needs patience, effort and perseverance&nbsp; to build a culture of profit and Growth
Happy people produce a happy culture. This course is a 30 days challenge which has been designed in a way to help you and your team to co-create a Culture of Profit and&nbsp; Growth. Each day you will be exploring 1 new opportunity in the form of a growth challenge. Ensure that the call to action of each day is completed even before you move on to the next day&rsquo;s task.
Why Setup a "Culture of Profit and Growth" for your businessDeveloping organisational culture based on values leads to

Increased employee engagement levels
Higher level of productivity
Delighting customer relationships and all other stake holders
Building a brand which...

https://www.learndesk.us/class/5865842950537216/setup-culture-of-purpose-profit-and-growth-in-30-days-on-your-own?ref=outlook-calendar
STATUS:CONFIRMED
SEQUENCE:3
BEGIN:VALARM
TRIGGER:-PT10M
DESCRIPTION:Class Reminder
ACTION:DISPLAY
END:VALARM
END:VEVENT
END:VCALENDAR