BEGIN:VCALENDAR
VERSION:2.0
CALSCALE:GREGORIAN
BEGIN:VEVENT
URL:https://www.learndesk.us/class/5854295075323904/lesson/ad45791264178b782fb03a3e45b150c2?ref=outlook-calendar
SUMMARY:Ten Tips to Stay Safe Online
DTSTART;TZID=America/Los_Angeles:20260422T190000
DTEND;TZID=America/Los_Angeles:20260422T200000
LOCATION:https://www.learndesk.us/class/5854295075323904/lesson/ad45791264178b782fb03a3e45b150c2?ref=outlook-calendar
DESCRIPTION: https://www.learndesk.us/class/5854295075323904/lesson/ad45791264178b782fb03a3e45b150c2?ref=outlook-calendar
STATUS:CONFIRMED
SEQUENCE:3
BEGIN:VALARM
TRIGGER:-PT10M
DESCRIPTION:Class Reminder
ACTION:DISPLAY
END:VALARM
END:VEVENT
END:VCALENDAR