BEGIN:VCALENDAR
VERSION:2.0
CALSCALE:GREGORIAN
BEGIN:VEVENT
URL:https://www.learndesk.us/class/5854295075323904/brain-bites-staying-safe-online?ref=outlook-calendar
SUMMARY:Brain Bites: Staying Safe Online
DTSTART;TZID=America/Los_Angeles:20260420T190000
DTEND;TZID=America/Los_Angeles:20260420T200000
LOCATION:https://www.learndesk.us/class/5854295075323904/brain-bites-staying-safe-online?ref=outlook-calendar
DESCRIPTION: 
The fast, effective way to a safer workforce.
Meet the hackers trying to break into your company, and learn how to recognize the ways they try to use you and your colleagues to steal money, data, and more.
Brain Bites micro-learning courses are information-rich and convey important topics with an engaging mix of video and animation. With 5-minute video lessons and 30-minute-or-less courses, Brain Bites are the perfect tool to educate today’s busy workforce.
What will you learn in this course?

Understanding the risks to yourself and your company from modern hackers
Recognizing Phishing attacks from email and SMS
Identifying how to defend against fake updates for Windows, Flash, Java, and more
Tips for staying safe online

About Brain Bites mini-courses: Brain Bites courses are designed to be fast-paced, information-rich courses that use a combination of video and animation to convey important business topics quickly and effectively, in five-minute micro-learning lessons.  
Written...

https://www.learndesk.us/class/5854295075323904/brain-bites-staying-safe-online?ref=outlook-calendar
STATUS:CONFIRMED
SEQUENCE:3
BEGIN:VALARM
TRIGGER:-PT10M
DESCRIPTION:Class Reminder
ACTION:DISPLAY
END:VALARM
END:VEVENT
END:VCALENDAR