BEGIN:VCALENDAR
VERSION:2.0
CALSCALE:GREGORIAN
BEGIN:VEVENT
URL:https://www.learndesk.us/class/5852195461267456/lesson/01e8e412838e1fd5a50768ff15ca8924?ref=outlook-calendar
SUMMARY:End
DTSTART;TZID=America/Los_Angeles:20260420T190000
DTEND;TZID=America/Los_Angeles:20260420T200000
LOCATION:https://www.learndesk.us/class/5852195461267456/lesson/01e8e412838e1fd5a50768ff15ca8924?ref=outlook-calendar
DESCRIPTION: https://www.learndesk.us/class/5852195461267456/lesson/01e8e412838e1fd5a50768ff15ca8924?ref=outlook-calendar
STATUS:CONFIRMED
SEQUENCE:3
BEGIN:VALARM
TRIGGER:-PT10M
DESCRIPTION:Class Reminder
ACTION:DISPLAY
END:VALARM
END:VEVENT
END:VCALENDAR