BEGIN:VCALENDAR
VERSION:2.0
CALSCALE:GREGORIAN
BEGIN:VEVENT
URL:https://www.learndesk.us/class/5842242142994432/excel-top-50-microsoft-excel-formulas-in-50-minutes?ref=outlook-calendar
SUMMARY:Excel: Top 50 Microsoft Excel Formulas in 50 Minutes
DTSTART;TZID=America/Los_Angeles:20260425T190000
DTEND;TZID=America/Los_Angeles:20260425T200000
LOCATION:https://www.learndesk.us/class/5842242142994432/excel-top-50-microsoft-excel-formulas-in-50-minutes?ref=outlook-calendar
DESCRIPTION: 
Last time you opened a spreadsheet and are overwhelmed by the formulas and functions being used. You don't know how to make the most out of them or change them into what you need. But it doesn't have to be this way.
What will you learn in this course?

Master the top 50 formulas in just 50 minutes
Understand the essence of these formulas, without memorizing them
See how each of these formulas is used with real examples



https://www.learndesk.us/class/5842242142994432/excel-top-50-microsoft-excel-formulas-in-50-minutes?ref=outlook-calendar
STATUS:CONFIRMED
SEQUENCE:3
BEGIN:VALARM
TRIGGER:-PT10M
DESCRIPTION:Class Reminder
ACTION:DISPLAY
END:VALARM
END:VEVENT
END:VCALENDAR